BEGIN:VCALENDAR
VERSION:2.0
PRODID:-//VisitHumenne.sk - ECPv4.6.7//NONSGML v1.0//EN
CALSCALE:GREGORIAN
METHOD:PUBLISH
X-WR-CALNAME:VisitHumenne.sk
X-ORIGINAL-URL:https://visithumenne.sk
X-WR-CALDESC:Events for VisitHumenne.sk
BEGIN:VEVENT
DTSTART;TZID=Europe/Bratislava:20260404T153000
DTEND;TZID=Europe/Bratislava:20260404T170500
DTSTAMP:20260425T130915
CREATED:20260403T161116Z
LAST-MODIFIED:20260403T161116Z
UID:18538-1775316600-1775322300@visithumenne.sk
SUMMARY:Super Mario galaktický film
DESCRIPTION:Žáner: Animovaný\, KomédiaKrajina pôvodu: USARok produkcie: 2026Trvanie: 95min.Vekové obmedzenie: MPIné: Slovenský dabing 2D \n \nLuigi a Mario sú najslávnejší inštalatéri v našej galaxii. Oprávnene. Opravia totiž nielen kvapkajúci kohútik a prasknuté vodovodné potrubie\, ale aj svet\, ktorý sa rúti do záhuby. Legendárni hrdinovia zo slávnych videohier sa znovu vydávajú na filmové plátna pod taktovkou štúdia Illumination. \n \nKúpiť vstupenku online! \n
URL:https://visithumenne.sk/udalost/super-mario-galakticky-film/
CATEGORIES:Kino Fajn
ATTACH;FMTTYPE=image/jpeg:https://visithumenne.sk/wp-content/uploads/2026/04/2026-super-mario-galaktick-film.jpg
END:VEVENT
BEGIN:VEVENT
DTSTART;TZID=Europe/Bratislava:20260404T173000
DTEND;TZID=Europe/Bratislava:20260404T190500
DTSTAMP:20260425T130915
CREATED:20260403T161118Z
LAST-MODIFIED:20260403T161118Z
UID:18540-1775323800-1775329500@visithumenne.sk
SUMMARY:Super Mario galaktický film
DESCRIPTION:Žáner: Animovaný\, KomédiaKrajina pôvodu: USARok produkcie: 2026Trvanie: 95min.Vekové obmedzenie: MPIné: Slovenský dabing 2D \n \nLuigi a Mario sú najslávnejší inštalatéri v našej galaxii. Oprávnene. Opravia totiž nielen kvapkajúci kohútik a prasknuté vodovodné potrubie\, ale aj svet\, ktorý sa rúti do záhuby. Legendárni hrdinovia zo slávnych videohier sa znovu vydávajú na filmové plátna pod taktovkou štúdia Illumination. \n \nKúpiť vstupenku online! \n
URL:https://visithumenne.sk/udalost/super-mario-galakticky-film-2/
CATEGORIES:Kino Fajn
ATTACH;FMTTYPE=image/jpeg:https://visithumenne.sk/wp-content/uploads/2026/04/2026-super-mario-galaktick-film.jpg
END:VEVENT
BEGIN:VEVENT
DTSTART;TZID=Europe/Bratislava:20260404T193000
DTEND;TZID=Europe/Bratislava:20260404T211600
DTSTAMP:20260425T130915
CREATED:20260403T161119Z
LAST-MODIFIED:20260403T161119Z
UID:18542-1775331000-1775337360@visithumenne.sk
SUMMARY:Dráma
DESCRIPTION:Žáner: Dráma\, Komédia\, RomantickýKrajina pôvodu: USARok produkcie: 2026Trvanie: 106min.Vekové obmedzenie: 15+Iné: České titulky 2D \n \nSú strašne zamilovaní a nemôžu sa dočkať dňa\, kedy sa vezmú. Prípravy na svadbu vrcholia a oni sú šťastní ako nikdy predtým. A potom príde ten nešťastný večer\, kedy sa začne rozoberať minulosť. Nasledujúce ráno je všetko úplne inak…Zendaya a Robert Pattinson\, charizmatická dvojica hereckých hviezd v romantickej komédii s netradičným názvom sľubuje skvelý divácky zážitok. \nVulgarizmySex \n \nKúpiť vstupenku online! \n
URL:https://visithumenne.sk/udalost/drama/
CATEGORIES:Kino Fajn
ATTACH;FMTTYPE=image/jpeg:https://visithumenne.sk/wp-content/uploads/2026/04/2026-dr-ma.jpg
END:VEVENT
END:VCALENDAR