BEGIN:VCALENDAR
VERSION:2.0
PRODID:-//VisitHumenne.sk - ECPv4.6.7//NONSGML v1.0//EN
CALSCALE:GREGORIAN
METHOD:PUBLISH
X-WR-CALNAME:VisitHumenne.sk
X-ORIGINAL-URL:https://visithumenne.sk
X-WR-CALDESC:Events for VisitHumenne.sk
BEGIN:VEVENT
DTSTART;TZID=Europe/Bratislava:20260405T150000
DTEND;TZID=Europe/Bratislava:20260405T163500
DTSTAMP:20260425T131740
CREATED:20260405T193448Z
LAST-MODIFIED:20260405T193448Z
UID:18544-1775401200-1775406900@visithumenne.sk
SUMMARY:Super Mario galaktický film
DESCRIPTION:Žáner: Animovaný\, KomédiaKrajina pôvodu: USARok produkcie: 2026Trvanie: 95min.Vekové obmedzenie: MPIné: Slovenský dabing 2D \n \nLuigi a Mario sú najslávnejší inštalatéri v našej galaxii. Oprávnene. Opravia totiž nielen kvapkajúci kohútik a prasknuté vodovodné potrubie\, ale aj svet\, ktorý sa rúti do záhuby. Legendárni hrdinovia zo slávnych videohier sa znovu vydávajú na filmové plátna pod taktovkou štúdia Illumination. \n \nKúpiť vstupenku online! \n
URL:https://visithumenne.sk/udalost/super-mario-galakticky-film-3/
CATEGORIES:Kino Fajn
ATTACH;FMTTYPE=image/jpeg:https://visithumenne.sk/wp-content/uploads/2026/04/2026-super-mario-galaktick-film.jpg
END:VEVENT
BEGIN:VEVENT
DTSTART;TZID=Europe/Bratislava:20260405T170000
DTEND;TZID=Europe/Bratislava:20260405T185400
DTSTAMP:20260425T131740
CREATED:20260405T193448Z
LAST-MODIFIED:20260405T193448Z
UID:18546-1775408400-1775415240@visithumenne.sk
SUMMARY:POSLEDNÁ VEČERA
DESCRIPTION:Žáner: Dráma\, HistorickýKrajina pôvodu: USARok produkcie: 2025Trvanie: 114min.Vekové obmedzenie: 12+Iné: Slovenské titulky 2D \nBIBLICKÝ PRÍBEH O ZRADE A ODPUSTENÍ \nPosledná večera je nesmierne silná filmová oslava najvyššieho aktu božskej lásky a obety. Tvorcovia ukážu divákom\, ako ju zažili tí\, ktorí kráčali po boku Ježiša Krista. Tento posvätný príbeh odhaľuje dosiaľ neznáme perspektívy a osvetľuje hlboké biblické pravdy skryté za okamihmi\, ktoré formovali dejiny spásy. Prostredníctvom hlboko intímnych filmových záberov budú mať diváci jedinečnú možnosť uvidieť na veľkom plátne dojímavý dôkaz vykúpenia\, milosti a večného prísľubu nádeje. \nNásilieStrach \n \nKúpiť vstupenku online! \n
URL:https://visithumenne.sk/udalost/posledna-vecera/
CATEGORIES:Kino Fajn
ATTACH;FMTTYPE=image/jpeg:https://visithumenne.sk/wp-content/uploads/2026/04/2025-posledn-ve-era-.jpg
END:VEVENT
BEGIN:VEVENT
DTSTART;TZID=Europe/Bratislava:20260405T193000
DTEND;TZID=Europe/Bratislava:20260405T211000
DTSTAMP:20260425T131740
CREATED:20260405T193448Z
LAST-MODIFIED:20260405T193448Z
UID:18548-1775417400-1775423400@visithumenne.sk
SUMMARY:NIEKTO TO RÁD V PLZNI
DESCRIPTION:Žáner: KomédiaKrajina pôvodu: Česká republikaRok produkcie: 2026Trvanie: 100min.Vekové obmedzenie: 15+Iné: Originálna verzia 2D \n \nKoľko bláznivých príbehov sa môže odohrať počas jedného krásneho leta v jednom mimoriadnom meste? Na túto otázku odpovie tvorca filmu Ženy v behu\, najúspešnejšieho českého filmu v modernej histórii. Tentoraz režisér Martin Horský obsadil do svojej novej čistej komédie naozaj zábavnú skupinu hercov.\nSex \n \nKúpiť vstupenku online! \n
URL:https://visithumenne.sk/udalost/niekto-to-rad-v-plzni/
CATEGORIES:Kino Fajn
ATTACH;FMTTYPE=image/jpeg:https://visithumenne.sk/wp-content/uploads/2026/04/2026-niekto-to-r-d-v-plzni.jpg
END:VEVENT
END:VCALENDAR