BEGIN:VCALENDAR
VERSION:2.0
PRODID:-//VisitHumenne.sk - ECPv4.6.7//NONSGML v1.0//EN
CALSCALE:GREGORIAN
METHOD:PUBLISH
X-WR-CALNAME:VisitHumenne.sk
X-ORIGINAL-URL:https://visithumenne.sk
X-WR-CALDESC:Events for VisitHumenne.sk
BEGIN:VEVENT
DTSTART;TZID=Europe/Bratislava:20260407T150000
DTEND;TZID=Europe/Bratislava:20260407T163500
DTSTAMP:20260425T131632
CREATED:20260405T193448Z
LAST-MODIFIED:20260405T193448Z
UID:18550-1775574000-1775579700@visithumenne.sk
SUMMARY:Super Mario galaktický film
DESCRIPTION:Žáner: Animovaný\, KomédiaKrajina pôvodu: USARok produkcie: 2026Trvanie: 95min.Vekové obmedzenie: MPIné: Slovenský dabing 2D \n \nLuigi a Mario sú najslávnejší inštalatéri v našej galaxii. Oprávnene. Opravia totiž nielen kvapkajúci kohútik a prasknuté vodovodné potrubie\, ale aj svet\, ktorý sa rúti do záhuby. Legendárni hrdinovia zo slávnych videohier sa znovu vydávajú na filmové plátna pod taktovkou štúdia Illumination. \n \nKúpiť vstupenku online! \n
URL:https://visithumenne.sk/udalost/super-mario-galakticky-film-4/
CATEGORIES:Kino Fajn
ATTACH;FMTTYPE=image/jpeg:https://visithumenne.sk/wp-content/uploads/2026/04/2026-super-mario-galaktick-film.jpg
END:VEVENT
BEGIN:VEVENT
DTSTART;TZID=Europe/Bratislava:20260407T170000
DTEND;TZID=Europe/Bratislava:20260407T184600
DTSTAMP:20260425T131632
CREATED:20260405T193448Z
LAST-MODIFIED:20260405T193448Z
UID:18552-1775581200-1775587560@visithumenne.sk
SUMMARY:Dráma
DESCRIPTION:Žáner: Dráma\, Komédia\, RomantickýKrajina pôvodu: USARok produkcie: 2026Trvanie: 106min.Vekové obmedzenie: 15+Iné: České titulky 2D \n \nSú strašne zamilovaní a nemôžu sa dočkať dňa\, kedy sa vezmú. Prípravy na svadbu vrcholia a oni sú šťastní ako nikdy predtým. A potom príde ten nešťastný večer\, kedy sa začne rozoberať minulosť. Nasledujúce ráno je všetko úplne inak…Zendaya a Robert Pattinson\, charizmatická dvojica hereckých hviezd v romantickej komédii s netradičným názvom sľubuje skvelý divácky zážitok. \nVulgarizmySex \n \nKúpiť vstupenku online! \n
URL:https://visithumenne.sk/udalost/drama-2/
CATEGORIES:Kino Fajn
ATTACH;FMTTYPE=image/jpeg:https://visithumenne.sk/wp-content/uploads/2026/04/2026-dr-ma.jpg
END:VEVENT
BEGIN:VEVENT
DTSTART;TZID=Europe/Bratislava:20260407T193000
DTEND;TZID=Europe/Bratislava:20260407T211000
DTSTAMP:20260425T131632
CREATED:20260405T193448Z
LAST-MODIFIED:20260405T193448Z
UID:18554-1775590200-1775596200@visithumenne.sk
SUMMARY:NIEKTO TO RÁD V PLZNI
DESCRIPTION:Žáner: KomédiaKrajina pôvodu: Česká republikaRok produkcie: 2026Trvanie: 100min.Vekové obmedzenie: 15+Iné: Originálna verzia 2D \n \nKoľko bláznivých príbehov sa môže odohrať počas jedného krásneho leta v jednom mimoriadnom meste? Na túto otázku odpovie tvorca filmu Ženy v behu\, najúspešnejšieho českého filmu v modernej histórii. Tentoraz režisér Martin Horský obsadil do svojej novej čistej komédie naozaj zábavnú skupinu hercov.\nSex \n \nKúpiť vstupenku online! \n
URL:https://visithumenne.sk/udalost/niekto-to-rad-v-plzni-2/
CATEGORIES:Kino Fajn
ATTACH;FMTTYPE=image/jpeg:https://visithumenne.sk/wp-content/uploads/2026/04/2026-niekto-to-r-d-v-plzni.jpg
END:VEVENT
END:VCALENDAR