BEGIN:VCALENDAR
VERSION:2.0
PRODID:-//VisitHumenne.sk - ECPv4.6.7//NONSGML v1.0//EN
CALSCALE:GREGORIAN
METHOD:PUBLISH
X-WR-CALNAME:VisitHumenne.sk
X-ORIGINAL-URL:https://visithumenne.sk
X-WR-CALDESC:Events for VisitHumenne.sk
BEGIN:VEVENT
DTSTART;TZID=Europe/Bratislava:20260410T193000
DTEND;TZID=Europe/Bratislava:20260410T211400
DTSTAMP:20260425T131739
CREATED:20260405T193449Z
LAST-MODIFIED:20260405T193449Z
UID:18560-1775849400-1775855640@visithumenne.sk
SUMMARY:NEVESTA NA ZABITIE 2
DESCRIPTION:Žáner: HororKrajina pôvodu: USARok produkcie: 2026Trvanie: 104min.Vekové obmedzenie: 18+Iné: Slovenské titulky 2D \n \nDruhé pokračovanie úspešného filmu Nevesta na zabitie\, začína presne v momente konca prvého filmu\, kde Grace MacCaullay\, jediná preživšia brutálnej „hry“\, ktorá vyústila do smrti jej manžela a svokrovcov\, zistí\, že jej víťazstvo má svoju cenu\, teraz ju najbohatšie a najvplyvnejšie rodiny na Zemi musia zabiť v novej hre alebo riskovať stratu svojej moci a bohatstva.  \nNásilieStrach \n \nKúpiť vstupenku online! \n
URL:https://visithumenne.sk/udalost/nevesta-na-zabitie-2/
CATEGORIES:Kino Fajn
ATTACH;FMTTYPE=image/jpeg:https://visithumenne.sk/wp-content/uploads/2026/04/2026-nevesta-na-zabitie-2-.jpg
END:VEVENT
END:VCALENDAR