BEGIN:VCALENDAR
VERSION:2.0
PRODID:-//VisitHumenne.sk - ECPv4.6.7//NONSGML v1.0//EN
CALSCALE:GREGORIAN
METHOD:PUBLISH
X-WR-CALNAME:VisitHumenne.sk
X-ORIGINAL-URL:https://visithumenne.sk
X-WR-CALDESC:Events for VisitHumenne.sk
BEGIN:VEVENT
DTSTART;TZID=Europe/Bratislava:20260413T190000
DTEND;TZID=Europe/Bratislava:20260413T205000
DTSTAMP:20260425T131016
CREATED:20260405T193449Z
LAST-MODIFIED:20260405T193449Z
UID:18572-1776106800-1776113400@visithumenne.sk
SUMMARY:TANEC S MEDVEĎOM
DESCRIPTION:Žáner: DrámaKrajina pôvodu: Česká republika\, SlovenskoRok produkcie: 2026Trvanie: 110min.Vekové obmedzenie: 12+Iné: Originálna verzia 2D \nKaždým rozhodnutím strácaš kus seba \nIntímna dráma Tanec s medveďom je emotívnou sondou do partnerského vzťahu vystaveného zásadnej životnej skúške. Citlivo zachytáva okamih\, keď sa radosť z očakávaného dieťaťa stretáva so strachom\, neistotou a tlakom okolia a keď je každé rozhodnutie spojené so stratou. Bez prikrášľovania\, pátosu a jednoduchých odpovedí prináša rozdielne pohľady rodičov\, priateľov aj odborníkov a otvára tému\, o ktorej sa v spoločnosti často nehovorí. \nStrachVulgarizmy \n \nKúpiť vstupenku online! \n
URL:https://visithumenne.sk/udalost/tanec-s-medvedom-2/
CATEGORIES:Kino Fajn
ATTACH;FMTTYPE=image/jpeg:https://visithumenne.sk/wp-content/uploads/2026/04/2026-tanec-s-medve-om.jpg
END:VEVENT
END:VCALENDAR