BEGIN:VCALENDAR
VERSION:2.0
PRODID:-//VisitHumenne.sk - ECPv4.6.7//NONSGML v1.0//EN
CALSCALE:GREGORIAN
METHOD:PUBLISH
X-WR-CALNAME:VisitHumenne.sk
X-ORIGINAL-URL:https://visithumenne.sk
X-WR-CALDESC:Events for VisitHumenne.sk
BEGIN:VEVENT
DTSTART;TZID=Europe/Bratislava:20260426T153000
DTEND;TZID=Europe/Bratislava:20260426T164500
DTSTAMP:20260425T131728
CREATED:20260405T193452Z
LAST-MODIFIED:20260405T193452Z
UID:18600-1777217400-1777221900@visithumenne.sk
SUMMARY:ARNIE A BARNEY: VODNÉ DOBRODRUŽSTVO KAMARÁTOV VČIELKY MAJI
DESCRIPTION:Žáner: Animovaný\, Komédia\, RodinnýKrajina pôvodu: NemeckoRok produkcie: 2026Trvanie: 75min.Vekové obmedzenie: 7+Iné: Slovenský dabing 2D \nHlúposť je ich superschopnosť \nKeď hmyz postihne vážne sucho\, mravčia čata sa vydáva hľadať riešenie. Smiešne nešikovní Arnie a Barney\, ktorí rozhodne nie sú stvorení na hrdinské činy\, sa rozhodnú vziať veci do vlastných rúk. Ich nemotorné snahy a nekonečná fantázia ich vedú k spolupráci s neznámym superhrdinom komárom a k odhaleniu skutočného dôvodu chýbajúcej vody. Prostredníctvom série komických nehôd nechtiac zachránia lúku a stanú sa najnepravdepodobnejšími hrdinami všetkých čias. \nStrach \n \nKúpiť vstupenku online! \n
URL:https://visithumenne.sk/udalost/arnie-a-barney-vodne-dobrodruzstvo-kamaratov-vcielky-maji/
CATEGORIES:Kino Fajn
ATTACH;FMTTYPE=image/jpeg:https://visithumenne.sk/wp-content/uploads/2026/04/2026-arnie-a-barney-vodn-dobrodru-stvo-kamar-tov-v-ielky-maji.jpg
END:VEVENT
BEGIN:VEVENT
DTSTART;TZID=Europe/Bratislava:20260426T173000
DTEND;TZID=Europe/Bratislava:20260426T185200
DTSTAMP:20260425T131728
CREATED:20260405T193452Z
LAST-MODIFIED:20260405T193452Z
UID:18602-1777224600-1777229520@visithumenne.sk
SUMMARY:RALLY: OD PARÍŽA K PYRAMÍDAM
DESCRIPTION:Žáner: Animovaný\, Dobrodružný\, RodinnýKrajina pôvodu: NórskoRok produkcie: 2026Trvanie: 82min.Vekové obmedzenie: 7+Iné: Slovenský dabing 2D \n \nTraja nečakaní priatelia sa pokúšajú vyhrať legendárnu rally z Paríža k pyramídam. Po ceste sa naučia\, že niektoré veci sú oveľa cennejšie ako víťazstvo v pretekoch – ľudia\, ktorí vás milujú a ktorých milujete vy. \n \nKúpiť vstupenku online! \n
URL:https://visithumenne.sk/udalost/rally-od-pariza-k-pyramidam-2/
CATEGORIES:Kino Fajn
ATTACH;FMTTYPE=image/jpeg:https://visithumenne.sk/wp-content/uploads/2026/04/2026-rally-od-par-a-k-pyram-dam-.jpg
END:VEVENT
BEGIN:VEVENT
DTSTART;TZID=Europe/Bratislava:20260426T193000
DTEND;TZID=Europe/Bratislava:20260426T204800
DTSTAMP:20260425T131728
CREATED:20260405T193452Z
LAST-MODIFIED:20260405T193452Z
UID:18604-1777231800-1777236480@visithumenne.sk
SUMMARY:VERÍME VÁM
DESCRIPTION:Žáner: DrámaKrajina pôvodu: BelgickoTrvanie: 78min.Vekové obmedzenie: 15+Iné: České titulky 2D \n \nAlice stojí pred súdom a vie\, že akékoľvek zaváhanie môže mať fatálne dôsledky. V hre nie je nič menšie než opatrovníctvo jej dvoch detí\, o ktoré bojuje so svojím bývalým manželom. Deti sa s otcom ďalej stretávať nechcú a prostredníctvom výpovedí všetkých zúčastnených vypláva na povrch pohnutá minulosť celej rodiny aj temný tieň pochybností. Čo sa vlastne stalo? Je otec nespravodlivo obvinený? \nAlice stojí pred súdom a vie\, že akékoľvek zaváhanie môže mať fatálne dôsledky. V hre nie je nič menšie než opatrovníctvo jej dvoch detí\, o ktoré bojuje so svojím bývalým manželom. Deti sa s otcom ďalej stretávať nechcú a prostredníctvom výpovedí všetkých zúčastnených vypláva na povrch pohnutá minulosť celej rodiny aj temný tieň pochybností. Čo sa vlastne stalo? Je otec nespravodlivo obvinený? \n \nKúpiť vstupenku online! \n
URL:https://visithumenne.sk/udalost/verime-vam/
CATEGORIES:Kino Fajn
ATTACH;FMTTYPE=image/jpeg:https://visithumenne.sk/wp-content/uploads/2026/04/ver-me-v-m-.jpg
END:VEVENT
END:VCALENDAR