BEGIN:VCALENDAR
VERSION:2.0
PRODID:-//VisitHumenne.sk - ECPv4.6.7//NONSGML v1.0//EN
CALSCALE:GREGORIAN
METHOD:PUBLISH
X-WR-CALNAME:VisitHumenne.sk
X-ORIGINAL-URL:https://visithumenne.sk
X-WR-CALDESC:Events for VisitHumenne.sk
BEGIN:VEVENT
DTSTART;TZID=Europe/Bratislava:20260430T193000
DTEND;TZID=Europe/Bratislava:20260430T212000
DTSTAMP:20260425T131629
CREATED:20260405T193452Z
LAST-MODIFIED:20260405T193452Z
UID:18608-1777577400-1777584000@visithumenne.sk
SUMMARY:NEVĎAČNÉ BYTOSTI
DESCRIPTION:Žáner: DrámaKrajina pôvodu: Česká republika\, Slovensko\, Chorvátsko\, Poľsko\, SlovinskoRok produkcie: 2026Trvanie: 110min.Vekové obmedzenie: 15+Iné: České titulky 2D \n \nNový film režiséra Olma Omerzu je o ľuďoch\, ktorí zlyhávajú\, ale aj o láske\, ktorá ich k zlyhaniu vedie. Ako ďaleko sú rodičia ochotní zájsť\, aby zachránili svoje dieťa? Klamať\, manipulovať\, prekračovať morálne hranice… Čo by ste urobili na ich mieste? Neodbytné otázky\, vyhrotené emócie\, intímne drama s náznakmi čiernej komédie a thrilleru. Takto ste o rodine možno ešte neuvažovali. \nNásilieDiskriminácia \n \nKúpiť vstupenku online! \n
URL:https://visithumenne.sk/udalost/nevdacne-bytosti/
CATEGORIES:Kino Fajn
ATTACH;FMTTYPE=image/jpeg:https://visithumenne.sk/wp-content/uploads/2026/04/2026-nev-a-n-bytosti-.jpg
END:VEVENT
END:VCALENDAR