BEGIN:VCALENDAR
VERSION:2.0
PRODID:-//VisitHumenne.sk - ECPv4.6.7//NONSGML v1.0//EN
CALSCALE:GREGORIAN
METHOD:PUBLISH
X-WR-CALNAME:VisitHumenne.sk
X-ORIGINAL-URL:https://visithumenne.sk
X-WR-CALDESC:Events for VisitHumenne.sk
BEGIN:VEVENT
DTSTART;TZID=Europe/Bratislava:20260322T153000
DTEND;TZID=Europe/Bratislava:20260322T170600
DTSTAMP:20260426T031010
CREATED:20260316T062603Z
LAST-MODIFIED:20260316T062603Z
UID:18468-1774193400-1774199160@visithumenne.sk
SUMMARY:JANKO A MARIENKA: STRÁŽCOVIA KÚZIEL
DESCRIPTION:Žáner: Animovaný\, Komédia\, RodinnýKrajina pôvodu: Veľká Británia\, CyprusRok produkcie: 2026Trvanie: 96min.Vekové obmedzenie: MPIné: Slovenský dabing 2D \nAnimovaná rozprávka o tom\, ako to bolo s Jankom a Marienkou potom \nAnimovaná rozprávka o tom\, ako to bolo s Jankom a Marienkou potom. Najväčší darebáci rozprávkovej ríše\, traste sa – Janko a Marienka sú späť! Už sú o niečo dospelejší a pracujú ako agenti v Tajnej agentúre pre kontrolu mágie\, ktorá dohliada na dodržiavanie pravidiel kúzlenia v rozprávkovom svete. \n\n \n \nKúpiť vstupenku online! \n
URL:https://visithumenne.sk/udalost/janko-a-marienka-strazcovia-kuziel-2/
CATEGORIES:Kino Fajn
ATTACH;FMTTYPE=image/jpeg:https://visithumenne.sk/wp-content/uploads/2026/03/2026-janko-a-marienka-str-covia-k-ziel.jpg
END:VEVENT
BEGIN:VEVENT
DTSTART;TZID=Europe/Bratislava:20260322T173000
DTEND;TZID=Europe/Bratislava:20260322T190100
DTSTAMP:20260426T031010
CREATED:20260316T062604Z
LAST-MODIFIED:20260316T062604Z
UID:18471-1774200600-1774206060@visithumenne.sk
SUMMARY:NEČAKANÉ LETO
DESCRIPTION:Žáner: KomédiaKrajina pôvodu: Česká republikaRok produkcie: 2026Trvanie: 91min.Vekové obmedzenie: 12+Iné: Originálna verzia 2D \n \nŽiadne plány dospelých nemôžu odolať detskej vynaliezavosti. Denisa to zistí\, keď jej starostlivo naplánovaný výlet na talianske pobrežie skončí na odľahlom českom kempingu. Zatiaľ čo sa zúfalo snaží dostať všetko späť do normálu\, jej dve deti rýchlo nájdu cestu k Petrovi\, ktorý nedobrovoľne spravuje niekoľko lesných chát v romantickom kúte Svatojánské proudy.   \n \nKúpiť vstupenku online! \n
URL:https://visithumenne.sk/udalost/necakane-leto-3/
CATEGORIES:Kino Fajn
ATTACH;FMTTYPE=image/jpeg:https://visithumenne.sk/wp-content/uploads/2026/03/2026-ne-akan-leto.jpg
END:VEVENT
BEGIN:VEVENT
DTSTART;TZID=Europe/Bratislava:20260322T193000
DTEND;TZID=Europe/Bratislava:20260322T213100
DTSTAMP:20260426T031010
CREATED:20260316T062605Z
LAST-MODIFIED:20260316T062605Z
UID:18474-1774207800-1774215060@visithumenne.sk
SUMMARY:PRAVDA A ZRADA
DESCRIPTION:Žáner: Dráma\, Historický\, TrilerKrajina pôvodu: USARok produkcie: 2025Trvanie: 121min.Vekové obmedzenie: 15+Iné: České titulky 2D \n \nFilm založený na skutočnom príbehu Helmutha Hübera. Počas druhej svetovej vojny je nemecký teenager nútený čeliť strašnej pravde – lojalita k svojej krajine teraz znamená lojalitu k lži. Keď jeho dôveryhodný biskup nalieha na poslušnosť nacistickému režimu\, začne spochybňovať všetko. A po tom\, ako odviezli jeho židovského priateľa\, tajne počúva zakázané rozhlasové vysielanie a začne odboj\, odhaľujúc pravdu. Ale v národe ovládanom strachom má vzbura svoju cenu – a keď sa režim približuje\, musí sa rozhodnúť\, čo skutočne znamená byť dobrým Nemcom. \nNásilieDiskrimináciaStrach \n \nKúpiť vstupenku online! \n
URL:https://visithumenne.sk/udalost/pravda-a-zrada/
CATEGORIES:Kino Fajn
ATTACH;FMTTYPE=image/jpeg:https://visithumenne.sk/wp-content/uploads/2026/03/2025-pravda-a-zrada.jpg
END:VEVENT
END:VCALENDAR