BEGIN:VCALENDAR
VERSION:2.0
PRODID:-//VisitHumenne.sk - ECPv4.6.7//NONSGML v1.0//EN
CALSCALE:GREGORIAN
METHOD:PUBLISH
X-WR-CALNAME:VisitHumenne.sk
X-ORIGINAL-URL:https://visithumenne.sk
X-WR-CALDESC:Events for VisitHumenne.sk
BEGIN:VEVENT
DTSTART;TZID=Europe/Bratislava:20260331T190000
DTEND;TZID=Europe/Bratislava:20260331T212500
DTSTAMP:20260425T132053
CREATED:20260316T062610Z
LAST-MODIFIED:20260316T062610Z
UID:18504-1774983600-1774992300@visithumenne.sk
SUMMARY:ČARODEJNÍK Z KREMĽA
DESCRIPTION:Žáner: Dráma\, TrilerKrajina pôvodu: USA\, FrancúzskoRok produkcie: 2025Trvanie: 145min.Vekové obmedzenie: 12+Iné: České titulky 2D \n \n90-te roky: Sovietsky zväz sa rozpadol a na  jeho troskách vzniká nový svet – chaotický\, dravý a bezohľadný. Vadim Baranov (Paul Dano)\, mimoriadne bystrý a inteligentný mladý muž\, sa nečakane ocitá v samom centre moci\, hoci pochádza zo sveta umenia a televíznej zábavy. Stáva sa neoficiálnym poradcom a architektom verejného imidžu nenápadného muža z tajných služieb – Vladimira Putina (Jude Law). \nNásilieVulgarizmy \n \nKúpiť vstupenku online! \n
URL:https://visithumenne.sk/udalost/carodejnik-z-kremla/
CATEGORIES:Kino Fajn
ATTACH;FMTTYPE=image/jpeg:https://visithumenne.sk/wp-content/uploads/2026/03/2025--arodejn-k-z-krem-a.jpg
END:VEVENT
END:VCALENDAR