BEGIN:VCALENDAR
VERSION:2.0
PRODID:-//VisitHumenne.sk - ECPv4.6.7//NONSGML v1.0//EN
CALSCALE:GREGORIAN
METHOD:PUBLISH
X-WR-CALNAME:VisitHumenne.sk
X-ORIGINAL-URL:https://visithumenne.sk
X-WR-CALDESC:Events for VisitHumenne.sk
BEGIN:VEVENT
DTSTART;TZID=Europe/Bratislava:20260408T193000
DTEND;TZID=Europe/Bratislava:20260408T211000
DTSTAMP:20260425T132011
CREATED:20260405T193448Z
LAST-MODIFIED:20260405T193448Z
UID:18556-1775676600-1775682600@visithumenne.sk
SUMMARY:NIEKTO TO RÁD V PLZNI
DESCRIPTION:Žáner: KomédiaKrajina pôvodu: Česká republikaRok produkcie: 2026Trvanie: 100min.Vekové obmedzenie: 15+Iné: Originálna verzia 2D \n \nKoľko bláznivých príbehov sa môže odohrať počas jedného krásneho leta v jednom mimoriadnom meste? Na túto otázku odpovie tvorca filmu Ženy v behu\, najúspešnejšieho českého filmu v modernej histórii. Tentoraz režisér Martin Horský obsadil do svojej novej čistej komédie naozaj zábavnú skupinu hercov.\nSex \n \nKúpiť vstupenku online! \n
URL:https://visithumenne.sk/udalost/niekto-to-rad-v-plzni-3/
CATEGORIES:Kino Fajn
ATTACH;FMTTYPE=image/jpeg:https://visithumenne.sk/wp-content/uploads/2026/04/2026-niekto-to-r-d-v-plzni.jpg
END:VEVENT
END:VCALENDAR