BEGIN:VCALENDAR
VERSION:2.0
PRODID:-//VisitHumenne.sk - ECPv4.6.7//NONSGML v1.0//EN
CALSCALE:GREGORIAN
METHOD:PUBLISH
X-WR-CALNAME:VisitHumenne.sk
X-ORIGINAL-URL:https://visithumenne.sk
X-WR-CALDESC:Events for VisitHumenne.sk
BEGIN:VEVENT
DTSTART;TZID=Europe/Bratislava:20260414T190000
DTEND;TZID=Europe/Bratislava:20260414T204200
DTSTAMP:20260425T132044
CREATED:20260405T193449Z
LAST-MODIFIED:20260405T193449Z
UID:18574-1776193200-1776199320@visithumenne.sk
SUMMARY:POTOPA
DESCRIPTION:Žáner: DrámaKrajina pôvodu: Česká republika\, Slovensko\, Belgicko\, PoľskoTrvanie: 102min.Vekové obmedzenie: 15+Iné: Originálna verzia 2D \n \nSilný  a emotívny príbeh o ľuďoch\, ktorých životy navždy zmenila stavba priehrady Starina. Mnoho z týchto rodín našlo nový domov práve v Humennom.\nMara (16) sa túži stať pilotkou a opustiť dedinský život\, no jej otec Alexander\, rusínsky sedliak\, je zásadne proti a drží ju pripútanú k rodinnej pôde. Keď obce v ich rodnej doline čaká zatopenie pre výstavbu vodnej nádrže\, obaja sa musia vyrovnať so stratou domova\, bojovať so zlyhávajúcou infraštruktúrou a zároveň hľadať cestu k vzájomnému zmiereniu. \nNásilieVulgarizmy \n \nKúpiť vstupenku online! \n
URL:https://visithumenne.sk/udalost/potopa-13/
CATEGORIES:Kino Fajn
ATTACH;FMTTYPE=image/jpeg:https://visithumenne.sk/wp-content/uploads/2026/04/potopa.jpg
END:VEVENT
END:VCALENDAR