BEGIN:VCALENDAR
VERSION:2.0
PRODID:-//VisitHumenne.sk - ECPv4.6.7//NONSGML v1.0//EN
CALSCALE:GREGORIAN
METHOD:PUBLISH
X-WR-CALNAME:VisitHumenne.sk
X-ORIGINAL-URL:https://visithumenne.sk
X-WR-CALDESC:Events for VisitHumenne.sk
BEGIN:VEVENT
DTSTART;TZID=Europe/Bratislava:20260422T190000
DTEND;TZID=Europe/Bratislava:20260422T205300
DTSTAMP:20260425T132038
CREATED:20260405T193450Z
LAST-MODIFIED:20260405T193450Z
UID:18588-1776884400-1776891180@visithumenne.sk
SUMMARY:AK BY SOM MALA NOHY\, TAK ŤA NAKOPEM + TURISTI
DESCRIPTION:Žáner: DrámaKrajina pôvodu: USATrvanie: 113min.Vekové obmedzenie: 15+Iné: České titulky 2D \n \nŽena na pokraji zrútenia sa musí vyrovnať s chorobou svojej dcéry\, neprítomným manželom\, nezvestnou pacientkou a nezvyčajným vzťahom so svojím terapeutom\, pričom sa snaží zvládnuť svoj vlastný život a kariéru. \nZávislosťNásilieVulgarizmy \n \nKúpiť vstupenku online! \n
URL:https://visithumenne.sk/udalost/ak-by-som-mala-nohy-tak-ta-nakopem-turisti/
CATEGORIES:Kino Fajn
ATTACH;FMTTYPE=image/jpeg:https://visithumenne.sk/wp-content/uploads/2026/04/ak-by-som-mala-nohy-tak-a-nakopem-turisti.jpg
END:VEVENT
END:VCALENDAR