BEGIN:VCALENDAR
VERSION:2.0
PRODID:-//VisitHumenne.sk - ECPv4.6.7//NONSGML v1.0//EN
CALSCALE:GREGORIAN
METHOD:PUBLISH
X-WR-CALNAME:VisitHumenne.sk
X-ORIGINAL-URL:https://visithumenne.sk
X-WR-CALDESC:Events for VisitHumenne.sk
BEGIN:VEVENT
DTSTART;TZID=Europe/Bratislava:20260416T180000
DTEND;TZID=Europe/Bratislava:20260416T190000
DTSTAMP:20260425T131810
CREATED:20260405T193456Z
LAST-MODIFIED:20260405T193456Z
UID:18507-1776362400-1776366000@visithumenne.sk
SUMMARY:63. Humenská hudobná jar - Slovenský komorný orchester
DESCRIPTION:Žáner: Klasická hudbaKrajina pôvodu: SlovenskoRok produkcie: 2026Trvanie: 60min.Vekové obmedzenie: MPIné: Originálna verzia live \n \numelecký vedúci Ewald Danel \n \nKúpiť vstupenku online! \n
URL:https://visithumenne.sk/udalost/63-humenska-hudobna-jar-slovensky-komorny-orchester/
CATEGORIES:MsKS
ATTACH;FMTTYPE=image/jpeg:https://visithumenne.sk/wp-content/uploads/2026/03/2026-63-humensk-hudobn-jar-slovensk-komorn-orchester.jpg
END:VEVENT
END:VCALENDAR