BEGIN:VCALENDAR
VERSION:2.0
PRODID:-//VisitHumenne.sk - ECPv4.6.7//NONSGML v1.0//EN
CALSCALE:GREGORIAN
METHOD:PUBLISH
X-WR-CALNAME:VisitHumenne.sk
X-ORIGINAL-URL:https://visithumenne.sk
X-WR-CALDESC:Events for VisitHumenne.sk
BEGIN:VEVENT
DTSTART;TZID=Europe/Bratislava:20260427T180000
DTEND;TZID=Europe/Bratislava:20260427T193000
DTSTAMP:20260425T131808
CREATED:20260405T193456Z
LAST-MODIFIED:20260405T193456Z
UID:18375-1777312800-1777318200@visithumenne.sk
SUMMARY:BEST OF SILNÉ REČI
DESCRIPTION:Žáner: TalkshowTrvanie: 90min.Vekové obmedzenie: 15+Iné:   \nVstupné: 25 eur \nHitparáda najlepších vtipov a najzábavnejších stand-upov prichádza do vášho mesta! Silné reči Best Of prináša najväčších komikov slovenskej stand-up scény\, ktorí vám naservírujú svoje top sety\, ktoré vás zaručene dostanú do kolien. \nPo rokoch úspešných vystúpení v Bratislave prinášame túto výnimočnú show konečne aj do vášho mesta! Zahoďte starosti\, pretože táto show vám bude hrať smiechom v hlave dlhšie ako hocijaká diridonda! \nUPOZORNENIE: Vstup na show je až od 15 rokov. \nNa vystúpenie odporúčame prísť s dostatočným predstihom\, aby sme vás mohli riadne usadiť a nezmeškali ste úvod show.\n \n \nKúpiť vstupenku online! \n
URL:https://visithumenne.sk/udalost/best-of-silne-reci/
CATEGORIES:MsKS
ATTACH;FMTTYPE=image/jpeg:https://visithumenne.sk/wp-content/uploads/2026/02/best-of-siln-re-i-.jpg
END:VEVENT
END:VCALENDAR