BEGIN:VCALENDAR
VERSION:2.0
PRODID:-//VisitHumenne.sk - ECPv4.6.7//NONSGML v1.0//EN
CALSCALE:GREGORIAN
METHOD:PUBLISH
X-WR-CALNAME:VisitHumenne.sk
X-ORIGINAL-URL:https://visithumenne.sk
X-WR-CALDESC:Events for VisitHumenne.sk
BEGIN:VEVENT
DTSTART;TZID=Europe/Bratislava:20260525T180000
DTEND;TZID=Europe/Bratislava:20260525T210000
DTSTAMP:20260425T150733
CREATED:20260405T193456Z
LAST-MODIFIED:20260405T193456Z
UID:18522-1779732000-1779742800@visithumenne.sk
SUMMARY:KRAJÍČEK ÚSMEVU
DESCRIPTION:Trvanie: 180min.Iné:   \nVstupné: 32 eur \n„Celý život som nechcel nič iné\, len ľuďom prinášať radosť. Smiech\, zábavu\, úsmev… dobrú náladu. To dávalo môjmu životu zmysel.“ \nHrajú: Andrej Remeník\,  Zuzana Vačková/Lucia Lapišáková\, Miroslava Drínová/Katarína Ivanková\, Gizela Oňová\, Zuzana Tlučková\, Alexandra Ferková\, Juraj Ďuriš\, Ondrej Ferko\, Peter Kočiš/Sväťo Malachovský\, Marcel Ochránek/Ladislav Ladomirjak \nIvan Krajíček. Jedinečný a neopakovateľný. Herec\, režisér\, spevák\, moderátor\, scenárista\, textár… Všestranný umelec a multitalent s obrovským komickým aj hudobným nadaním. Ojedinelý profesionál. Detailista a perfekcionalista. Komik zrodený pre svet šoubiznisu. \nZažite s nami výnimočný večer plný vtipu\, známych piesní aj dojatia\, ktorý vám pripomenie niektoré z nezabudnuteľných okamihov umeleckej a ľudskej cesty Ivana Krajíčka. Umelca a človeka\, na ktorého nemôžeme a nechceme zabudnúť. \nObvyklá dĺžka trvania predstavenia: 3 hod. (vrátane jednej 15 min. prestávky) \nPredstavenie je vhodné pre divákov od 12 rokov \n \nKúpiť vstupenku online! \n
URL:https://visithumenne.sk/udalost/krajicek-usmevu/
CATEGORIES:MsKS
ATTACH;FMTTYPE=image/jpeg:https://visithumenne.sk/wp-content/uploads/2026/03/kraj-ek-smevu-.jpg
END:VEVENT
END:VCALENDAR