BEGIN:VCALENDAR
VERSION:2.0
PRODID:-//VisitHumenne.sk - ECPv4.6.7//NONSGML v1.0//EN
CALSCALE:GREGORIAN
METHOD:PUBLISH
X-WR-CALNAME:VisitHumenne.sk
X-ORIGINAL-URL:https://visithumenne.sk
X-WR-CALDESC:Events for VisitHumenne.sk
BEGIN:VEVENT
DTSTART;TZID=Europe/Bratislava:20260429T193000
DTEND;TZID=Europe/Bratislava:20260429T205200
DTSTAMP:20260425T131813
CREATED:20260405T193452Z
LAST-MODIFIED:20260405T193452Z
UID:18606-1777491000-1777495920@visithumenne.sk
SUMMARY:AHOJ FRIDA
DESCRIPTION:Žáner: AnimovanýKrajina pôvodu: Francúzsko\, KanadaRok produkcie: 2024Trvanie: 82min.Vekové obmedzenie: MPIné: Slovenský dabing 2D \n \nAnimovaný film voľne inšpirovaný životom Fridy Kahlo a najmä jej mladosťou zdôrazňuje spásnu silu predstavivosti\, tvorby a umenia. Umenia\, ktoré lieči\, oslobodzuje a povznáša. \n \nKúpiť vstupenku online! \n
URL:https://visithumenne.sk/udalost/ahoj-frida/
CATEGORIES:Kino Fajn
ATTACH;FMTTYPE=image/jpeg:https://visithumenne.sk/wp-content/uploads/2026/04/2024-ahoj-frida.jpg
END:VEVENT
END:VCALENDAR