BEGIN:VCALENDAR
VERSION:2.0
PRODID:-//VisitHumenne.sk - ECPv4.6.7//NONSGML v1.0//EN
CALSCALE:GREGORIAN
METHOD:PUBLISH
X-WR-CALNAME:VisitHumenne.sk
X-ORIGINAL-URL:https://visithumenne.sk
X-WR-CALDESC:Events for VisitHumenne.sk
BEGIN:VEVENT
DTSTART;TZID=Europe/Bratislava:20260405T170000
DTEND;TZID=Europe/Bratislava:20260405T185400
DTSTAMP:20260425T131802
CREATED:20260405T193448Z
LAST-MODIFIED:20260405T193448Z
UID:18546-1775408400-1775415240@visithumenne.sk
SUMMARY:POSLEDNÁ VEČERA
DESCRIPTION:Žáner: Dráma\, HistorickýKrajina pôvodu: USARok produkcie: 2025Trvanie: 114min.Vekové obmedzenie: 12+Iné: Slovenské titulky 2D \nBIBLICKÝ PRÍBEH O ZRADE A ODPUSTENÍ \nPosledná večera je nesmierne silná filmová oslava najvyššieho aktu božskej lásky a obety. Tvorcovia ukážu divákom\, ako ju zažili tí\, ktorí kráčali po boku Ježiša Krista. Tento posvätný príbeh odhaľuje dosiaľ neznáme perspektívy a osvetľuje hlboké biblické pravdy skryté za okamihmi\, ktoré formovali dejiny spásy. Prostredníctvom hlboko intímnych filmových záberov budú mať diváci jedinečnú možnosť uvidieť na veľkom plátne dojímavý dôkaz vykúpenia\, milosti a večného prísľubu nádeje. \nNásilieStrach \n \nKúpiť vstupenku online! \n
URL:https://visithumenne.sk/udalost/posledna-vecera/
CATEGORIES:Kino Fajn
ATTACH;FMTTYPE=image/jpeg:https://visithumenne.sk/wp-content/uploads/2026/04/2025-posledn-ve-era-.jpg
END:VEVENT
END:VCALENDAR