BEGIN:VCALENDAR
VERSION:2.0
PRODID:-//VisitHumenne.sk - ECPv4.6.7//NONSGML v1.0//EN
CALSCALE:GREGORIAN
METHOD:PUBLISH
X-WR-CALNAME:VisitHumenne.sk
X-ORIGINAL-URL:https://visithumenne.sk
X-WR-CALDESC:Events for VisitHumenne.sk
BEGIN:VEVENT
DTSTART;TZID=Europe/Bratislava:20260322T193000
DTEND;TZID=Europe/Bratislava:20260322T213100
DTSTAMP:20260426T015254
CREATED:20260316T062605Z
LAST-MODIFIED:20260316T062605Z
UID:18474-1774207800-1774215060@visithumenne.sk
SUMMARY:PRAVDA A ZRADA
DESCRIPTION:Žáner: Dráma\, Historický\, TrilerKrajina pôvodu: USARok produkcie: 2025Trvanie: 121min.Vekové obmedzenie: 15+Iné: České titulky 2D \n \nFilm založený na skutočnom príbehu Helmutha Hübera. Počas druhej svetovej vojny je nemecký teenager nútený čeliť strašnej pravde – lojalita k svojej krajine teraz znamená lojalitu k lži. Keď jeho dôveryhodný biskup nalieha na poslušnosť nacistickému režimu\, začne spochybňovať všetko. A po tom\, ako odviezli jeho židovského priateľa\, tajne počúva zakázané rozhlasové vysielanie a začne odboj\, odhaľujúc pravdu. Ale v národe ovládanom strachom má vzbura svoju cenu – a keď sa režim približuje\, musí sa rozhodnúť\, čo skutočne znamená byť dobrým Nemcom. \nNásilieDiskrimináciaStrach \n \nKúpiť vstupenku online! \n
URL:https://visithumenne.sk/udalost/pravda-a-zrada/
CATEGORIES:Kino Fajn
ATTACH;FMTTYPE=image/jpeg:https://visithumenne.sk/wp-content/uploads/2026/03/2025-pravda-a-zrada.jpg
END:VEVENT
END:VCALENDAR