BEGIN:VCALENDAR
VERSION:2.0
PRODID:-//VisitHumenne.sk - ECPv4.6.7//NONSGML v1.0//EN
CALSCALE:GREGORIAN
METHOD:PUBLISH
X-WR-CALNAME:VisitHumenne.sk
X-ORIGINAL-URL:https://visithumenne.sk
X-WR-CALDESC:Events for VisitHumenne.sk
BEGIN:VEVENT
DTSTART;TZID=Europe/Bratislava:20260426T173000
DTEND;TZID=Europe/Bratislava:20260426T185200
DTSTAMP:20260425T131857
CREATED:20260405T193452Z
LAST-MODIFIED:20260405T193452Z
UID:18602-1777224600-1777229520@visithumenne.sk
SUMMARY:RALLY: OD PARÍŽA K PYRAMÍDAM
DESCRIPTION:Žáner: Animovaný\, Dobrodružný\, RodinnýKrajina pôvodu: NórskoRok produkcie: 2026Trvanie: 82min.Vekové obmedzenie: 7+Iné: Slovenský dabing 2D \n \nTraja nečakaní priatelia sa pokúšajú vyhrať legendárnu rally z Paríža k pyramídam. Po ceste sa naučia\, že niektoré veci sú oveľa cennejšie ako víťazstvo v pretekoch – ľudia\, ktorí vás milujú a ktorých milujete vy. \n \nKúpiť vstupenku online! \n
URL:https://visithumenne.sk/udalost/rally-od-pariza-k-pyramidam-2/
CATEGORIES:Kino Fajn
ATTACH;FMTTYPE=image/jpeg:https://visithumenne.sk/wp-content/uploads/2026/04/2026-rally-od-par-a-k-pyram-dam-.jpg
END:VEVENT
END:VCALENDAR