BEGIN:VCALENDAR
VERSION:2.0
PRODID:-//VisitHumenne.sk - ECPv4.6.7//NONSGML v1.0//EN
CALSCALE:GREGORIAN
METHOD:PUBLISH
X-WR-CALNAME:VisitHumenne.sk
X-ORIGINAL-URL:https://visithumenne.sk
X-WR-CALDESC:Events for VisitHumenne.sk
BEGIN:VEVENT
DTSTART;TZID=Europe/Bratislava:20260329T193000
DTEND;TZID=Europe/Bratislava:20260329T205700
DTSTAMP:20260425T150621
CREATED:20260316T062610Z
LAST-MODIFIED:20260316T062610Z
UID:18501-1774812600-1774817820@visithumenne.sk
SUMMARY:ŠAMPIÓN
DESCRIPTION:Žáner: ŽivotopisnýKrajina pôvodu: Česká republika\, SlovenskoRok produkcie: 2026Trvanie: 87min.Vekové obmedzenie: 12+Iné: Originálna verzia 2D \n \nOndrej Nepela\, fenomenálny športovec. Film je intenzívnou osobnou drámou o mladom mužovi\, ktorý po rokoch reprezentovania svojej krajiny túži len po jednej veci – opustiť socialistické Československo a vystupovať v populárnej revue Holiday on Ice. Práve v tejto zraniteľnej chvíli na neho režim zintenzívňuje tlak.  \nOndrej Nepela\, fenomenálny športovec. Film je intenzívnou osobnou drámou o mladom mužovi\, ktorý po rokoch reprezentovania svojej krajiny túži len po jednej veci – opustiť socialistické Československo a vystupovať v populárnej revue Holiday on Ice. Práve v tejto zraniteľnej chvíli na neho režim zintenzívňuje tlak.  \n \nKúpiť vstupenku online! \n
URL:https://visithumenne.sk/udalost/sampion-3/
CATEGORIES:Kino Fajn
ATTACH;FMTTYPE=image/jpeg:https://visithumenne.sk/wp-content/uploads/2026/03/2026--ampi-n.jpg
END:VEVENT
END:VCALENDAR