BEGIN:VCALENDAR
VERSION:2.0
PRODID:-//VisitHumenne.sk - ECPv4.6.7//NONSGML v1.0//EN
CALSCALE:GREGORIAN
METHOD:PUBLISH
X-WR-CALNAME:VisitHumenne.sk
X-ORIGINAL-URL:https://visithumenne.sk
X-WR-CALDESC:Events for VisitHumenne.sk
BEGIN:VEVENT
DTSTART;TZID=Europe/Bratislava:20260412T190000
DTEND;TZID=Europe/Bratislava:20260412T205400
DTSTAMP:20260425T131804
CREATED:20260405T193449Z
LAST-MODIFIED:20260405T193449Z
UID:18570-1776020400-1776027240@visithumenne.sk
SUMMARY:SPOMIENKY NA NEHO
DESCRIPTION:Žáner: RomantickýKrajina pôvodu: USARok produkcie: 2026Trvanie: 114min.Vekové obmedzenie: 12+Iné: Slovenské titulky 2D \n \nKenna (Maika Monroe) je obyčajné mladé dievča\, ktoré je po uši zamilované do svojho priateľa Scottyho. Dúfa\, že je to ten pravý – aj preto\, že s ním čaká dieťa. Nádherný večer sa však skončí tragickou dopravnou nehodou\, ktorá vezme Scottymu život a Kenne slobodu. Jediná chyba za volantom ju pošle na sedem rokov za mreže. \n \nKúpiť vstupenku online! \n
URL:https://visithumenne.sk/udalost/spomienky-na-neho/
CATEGORIES:Kino Fajn
ATTACH;FMTTYPE=image/jpeg:https://visithumenne.sk/wp-content/uploads/2026/04/2026-spomienky-na-neho.jpg
END:VEVENT
END:VCALENDAR