BEGIN:VCALENDAR
VERSION:2.0
PRODID:-//VisitHumenne.sk - ECPv4.6.7//NONSGML v1.0//EN
CALSCALE:GREGORIAN
METHOD:PUBLISH
X-WR-CALNAME:VisitHumenne.sk
X-ORIGINAL-URL:https://visithumenne.sk
X-WR-CALDESC:Events for VisitHumenne.sk
BEGIN:VEVENT
DTSTART;TZID=Europe/Bratislava:20260425T153000
DTEND;TZID=Europe/Bratislava:20260425T170500
DTSTAMP:20260425T113546
CREATED:20260405T193452Z
LAST-MODIFIED:20260405T193452Z
UID:18594-1777131000-1777136700@visithumenne.sk
SUMMARY:Super Mario galaktický film
DESCRIPTION:Žáner: Animovaný\, KomédiaKrajina pôvodu: USARok produkcie: 2026Trvanie: 95min.Vekové obmedzenie: MPIné: Slovenský dabing 2D \n \nLuigi a Mario sú najslávnejší inštalatéri v našej galaxii. Oprávnene. Opravia totiž nielen kvapkajúci kohútik a prasknuté vodovodné potrubie\, ale aj svet\, ktorý sa rúti do záhuby. Legendárni hrdinovia zo slávnych videohier sa znovu vydávajú na filmové plátna pod taktovkou štúdia Illumination. \n \nKúpiť vstupenku online! \n
URL:https://visithumenne.sk/udalost/super-mario-galakticky-film-5/
CATEGORIES:Kino Fajn
ATTACH;FMTTYPE=image/jpeg:https://visithumenne.sk/wp-content/uploads/2026/04/2026-super-mario-galaktick-film.jpg
END:VEVENT
END:VCALENDAR