BEGIN:VCALENDAR
VERSION:2.0
PRODID:-//VisitHumenne.sk - ECPv4.6.7//NONSGML v1.0//EN
CALSCALE:GREGORIAN
METHOD:PUBLISH
X-WR-CALNAME:VisitHumenne.sk
X-ORIGINAL-URL:https://visithumenne.sk
X-WR-CALDESC:Events for VisitHumenne.sk
BEGIN:VEVENT
DTSTART;TZID=Europe/Bratislava:20260617T193000
DTEND;TZID=Europe/Bratislava:20260617T220000
DTSTAMP:20260425T163130
CREATED:20260405T193456Z
LAST-MODIFIED:20260405T193456Z
UID:18525-1781724600-1781733600@visithumenne.sk
SUMMARY:TVÁR Z BILBORDU
DESCRIPTION:Žáner: KomédiaKrajina pôvodu: SlovenskoRok produkcie: 2026Trvanie: 150min.Vekové obmedzenie: 12+Iné: Slovenská verzia premiera \n \nHlavnou témou hry Tvár z bilbordu je sila marketingu a povrchnosť spoločnosti\, ktorá sa rozhodne dať priestor prázdnym\, mediálne vyrobeným tváram\, zatiaľ čo skutočné ľudské hodnoty zostávajú v úzadí. Autor prostredníctvom prostredia médií a marketingových stratégií reflektuje súčasnú dobu\, v ktorej sa rutinne vyrábajú tváre bez obsahu s cieľom riadiť spoločnosť. \nÚčinkujúci: Stanislav Štepka\, Maruška Nedomová\, Tereza Hanáková\, Michaela Szöcsová alebo Anna Gajdzíková\, Mojmír Caban\, René Štúr alebo Adam Jančina\, Samuel Spišák alebo Peter Ondrejička\, Ladislav Hubáček\, Vladimír Svítek alebo Matej Volf\, Martin Šenc alebo Miloš Biháry. \n \nKúpiť vstupenku online! \n
URL:https://visithumenne.sk/udalost/tvar-z-bilbordu/
CATEGORIES:MsKS
ATTACH;FMTTYPE=image/jpeg:https://visithumenne.sk/wp-content/uploads/2026/03/2026-tv-r-z-bilbordu.jpg
END:VEVENT
END:VCALENDAR